BEGIN:VCALENDAR
VERSION:2.0
PRODID:-//wp-events-plugin.com//6.4.6.4//EN
TZID:Europe/Berlin
X-WR-TIMEZONE:Europe/Berlin
BEGIN:VEVENT
UID:2374@qft.physik.hu-berlin.de
DTSTART;TZID=Europe/Berlin:20260109T133000
DTEND;TZID=Europe/Berlin:20260109T143000
DTSTAMP:20260108T101220Z
URL:https://qft.physik.hu-berlin.de/next-seminars/valentina-forini-hu-berl
 in-2/
SUMMARY:Valentina Forini (HU Berlin) - 
DESCRIPTION:Speaker: Valentina Forini (HU Berlin)\n\nTitle: Remarks on flu
 x-tubes and defects in holography\n\nAbstract:\nI will discuss the physics
  of a cusped Wilson loop in N=4 super Yang-Mills theory in the presence of
  a large R-charge and at strong coupling. This setup provides a bridge b
 etween defect CFT data\, the structure of the static quark-antiquark poten
 tial and large-charge dynamics. In particular\, at a critical value of th
 e charge one crosses from a region dominated by the familiar Coulomb-like 
 singularity to a “deconfined” situation. I will briefly comment on th
 e fusion of Wilson lines.\n\n\n\n\n\n\n\n\n\n\n\n\n\n
CATEGORIES:Pizza Seminars
LOCATION:Room 1.221\, IRIS building\, Zum großen Windkanal 6\, Berlin\, 12
 489\, Germany
X-APPLE-STRUCTURED-LOCATION;VALUE=URI;X-ADDRESS=Zum großen Windkanal 6\, B
 erlin\, 12489\, Germany;X-APPLE-RADIUS=100;X-TITLE=Room 1.221\, IRIS build
 ing:geo:0,0
END:VEVENT
BEGIN:VTIMEZONE
TZID:Europe/Berlin
X-LIC-LOCATION:Europe/Berlin
BEGIN:STANDARD
DTSTART:20251026T020000
TZOFFSETFROM:+0200
TZOFFSETTO:+0100
TZNAME:CET
END:STANDARD
END:VTIMEZONE
END:VCALENDAR