BEGIN:VCALENDAR
VERSION:2.0
PRODID:-//wp-events-plugin.com//6.4.6.4//EN
TZID:Europe/Berlin
X-WR-TIMEZONE:Europe/Berlin
BEGIN:VEVENT
UID:2434@qft.physik.hu-berlin.de
DTSTART;TZID=Europe/Berlin:20260107T133000
DTEND;TZID=Europe/Berlin:20260107T143000
DTSTAMP:20260105T100428Z
URL:https://qft.physik.hu-berlin.de/next-seminars/tim-meier-u-santiago-de-
 compostela/
SUMMARY:Tim Meier (U. Santiago de Compostela) - 
DESCRIPTION:Speaker: Tim Meier\n\nTitle: Noncommutative deformations of gau
 ge theories via Drinfel’d twists of the scale symmetry\n\nAbstract: Inte
 grability within the AdS/CFT correspondence provides a powerful framework 
 for studying quantum field theories and their AdS duals at finite coupling
 \, offering an ideal playground for testing the duality and exploring nonp
 erturbative aspects of QFT. In recent years\, considerable attention has b
 een focused on integrable deformations of the AdS5 string\, particularly t
 he class of homogeneous Yang–Baxter deformations\, whose CFT duals are c
 onjectured to be twisted versions of N=4 SYM. When these deformations act 
 on the AdS sector of the background\, they generically give rise to noncom
 mutative field theories. However\, a key challenge has been the lack of a 
 systematic construction of gauge-invariant noncommutative Yang–Mills the
 ories for the relevant twists.\nIn this talk\, I will present a new approa
 ch that resolves this issue by providing a gauge-invariant formulation of 
 noncommutative Yang–Mills theory for twists generated by scale and Poinc
 aré transformations. This framework opens the door to investigating the C
 FT duals of a broad class of Yang–Baxter–deformed AdS backgrounds and 
 paves the way for deeper tests of integrability-based deformations within 
 AdS/CFT.
CATEGORIES:Pizza Seminars
LOCATION:Room 1.221\, IRIS building\, Zum großen Windkanal 6\, Berlin\, 12
 489\, Germany
X-APPLE-STRUCTURED-LOCATION;VALUE=URI;X-ADDRESS=Zum großen Windkanal 6\, B
 erlin\, 12489\, Germany;X-APPLE-RADIUS=100;X-TITLE=Room 1.221\, IRIS build
 ing:geo:0,0
END:VEVENT
BEGIN:VTIMEZONE
TZID:Europe/Berlin
X-LIC-LOCATION:Europe/Berlin
BEGIN:STANDARD
DTSTART:20251026T020000
TZOFFSETFROM:+0200
TZOFFSETTO:+0100
TZNAME:CET
END:STANDARD
END:VTIMEZONE
END:VCALENDAR