BEGIN:VCALENDAR
VERSION:2.0
PRODID:-//wp-events-plugin.com//6.4.6.4//EN
TZID:Europe/Berlin
X-WR-TIMEZONE:Europe/Berlin
BEGIN:VEVENT
UID:2425@qft.physik.hu-berlin.de
DTSTART;TZID=Europe/Berlin:20260213T140000
DTEND;TZID=Europe/Berlin:20260213T150000
DTSTAMP:20260209T111759Z
URL:https://qft.physik.hu-berlin.de/next-seminars/qft-colloquium-14/
SUMMARY:QFT Colloquium: Charlotte Sleight (U. Naples) "Holograms in the Sky
 : Lessons for de Sitter and Flat-space Holography from AdS/CFT" - 
DESCRIPTION:Speaker  Charlotte Sleight\, University of Naples\n\nTitle  H
 olograms in the Sky: Lessons for de Sitter and Flat-space Holography from 
 AdS/CFT\n\nAbstract\nThe AdS/CFT correspondence is our most successful wor
 king example of the holographic principle in quantum gravity\, which ident
 ifies quantum gravity in anti-de Sitter space with a non-gravitational con
 formal field theory living on its boundary at infinity. I will discuss how
  far lessons from AdS/CFT can be pushed toward space-times closer to our u
 niverse\, using AdS’s maximally symmetric cousins\, de Sitter and Minkow
 ski space\, as a starting point. A key hurdle for holography in these set
 tings is that the physics involves outgoing radiation. I'll introduce a Eu
 clidean perspective that nevertheless allows us to recast observables in d
 e Sitter and flat space in terms of boundary correlators familiar from AdS
 /CFT\, providing a concrete bridge between radiative physics and standard 
 AdS tools.
CATEGORIES:Colloquia
LOCATION:IRIS building\, Room 1.221\, Zum Großen Windkanal 2\, Berlin\, 12
 489\, Germany
X-APPLE-STRUCTURED-LOCATION;VALUE=URI;X-ADDRESS=Zum Großen Windkanal 2\, B
 erlin\, 12489\, Germany;X-APPLE-RADIUS=100;X-TITLE=IRIS building\, Room 1.
 221:geo:0,0
END:VEVENT
BEGIN:VTIMEZONE
TZID:Europe/Berlin
X-LIC-LOCATION:Europe/Berlin
BEGIN:STANDARD
DTSTART:20251026T020000
TZOFFSETFROM:+0200
TZOFFSETTO:+0100
TZNAME:CET
END:STANDARD
END:VTIMEZONE
END:VCALENDAR