BEGIN:VCALENDAR
VERSION:2.0
PRODID:-//wp-events-plugin.com//6.4.6.4//EN
TZID:Europe/Berlin
X-WR-TIMEZONE:Europe/Berlin
BEGIN:VEVENT
UID:1795@qft.physik.hu-berlin.de
DTSTART;TZID=Europe/Berlin:20220610T140000
DTEND;TZID=Europe/Berlin:20220610T150000
DTSTAMP:20220606T175749Z
URL:https://qft.physik.hu-berlin.de/next-seminars/nathan-moynihan-universi
 ty-of-edinburgh/
SUMMARY:Nathan Moynihan\, University of Edinburgh - 
DESCRIPTION:Nathan Moynihan (University of Edinburgh)\n\nTitle: The Cotton 
 Double Copy\n\n\nAbstract:\n\nThe classical double copy relates specific s
 olutions in gauge theories to their gravitational counterparts which\, und
 er certain conditions\, can be related to on-shell three-particle scatteri
 ng amplitudes. In this talk\, I will discuss how certain classical curvatu
 re spinors in topologically massive gauge theories and gravity can inherit
  the double copy from the underlying three-particle amplitudes resulting i
 n the Cotton double copy\, a three-dimensional cousin of the Weyl double c
 opy.\n\n\n&nbsp\;
CATEGORIES:Pizza Seminars
LOCATION:Room 1.221\, IRIS building\, Zum großen Windkanal 6\, Berlin\, 12
 489\, Germany
X-APPLE-STRUCTURED-LOCATION;VALUE=URI;X-ADDRESS=Zum großen Windkanal 6\, B
 erlin\, 12489\, Germany;X-APPLE-RADIUS=100;X-TITLE=Room 1.221\, IRIS build
 ing:geo:0,0
END:VEVENT
BEGIN:VTIMEZONE
TZID:Europe/Berlin
X-LIC-LOCATION:Europe/Berlin
BEGIN:DAYLIGHT
DTSTART:20220327T030000
TZOFFSETFROM:+0100
TZOFFSETTO:+0200
TZNAME:CEST
END:DAYLIGHT
END:VTIMEZONE
END:VCALENDAR