BEGIN:VCALENDAR
VERSION:2.0
PRODID:-//wp-events-plugin.com//6.4.6.4//EN
TZID:Europe/Berlin
X-WR-TIMEZONE:Europe/Berlin
BEGIN:VEVENT
UID:2452@qft.physik.hu-berlin.de
DTSTART;TZID=Europe/Berlin:20251205T090000
DTEND;TZID=Europe/Berlin:20251205T120000
DTSTAMP:20251031T125247Z
URL:https://qft.physik.hu-berlin.de/next-seminars/kmpb/
SUMMARY:KMPB 2025/26 Winter Semester Kick-Off Meeting - 
DESCRIPTION:https://kmpb.physik.hu-berlin.de/index.php/event/save-the-date-
 kmpb-2025-26-winter-semester-kick-off-meeting/
CATEGORIES:Pizza Seminars
END:VEVENT
BEGIN:VTIMEZONE
TZID:Europe/Berlin
X-LIC-LOCATION:Europe/Berlin
BEGIN:STANDARD
DTSTART:20251026T020000
TZOFFSETFROM:+0200
TZOFFSETTO:+0100
TZNAME:CET
END:STANDARD
END:VTIMEZONE
END:VCALENDAR