BEGIN:VCALENDAR
VERSION:2.0
PRODID:-//wp-events-plugin.com//6.4.6.4//EN
TZID:Europe/Berlin
X-WR-TIMEZONE:Europe/Berlin
BEGIN:VEVENT
UID:2440@qft.physik.hu-berlin.de
DTSTART;TZID=Europe/Berlin:20251128T133000
DTEND;TZID=Europe/Berlin:20251128T143000
DTSTAMP:20251125T100816Z
URL:https://qft.physik.hu-berlin.de/next-seminars/jorge-zanelli/
SUMMARY:Jorge Zanelli: Spinors in singular 2+1 geometries - 
DESCRIPTION:Speaker: Jorge Zanelli (CECS\, Valdivia)\n\nTitle: Spinors in s
 ingular 2+1 geometries\n\nAbstract:\nThe black hole in asymptotically AdS 
 (2+1)-spacetime belongs to a family of geometries that includes naked sing
 ularities of various types. The existence of globally defined spin-1/2 fie
 lds in these geometries is reviewed and a few surprising features are exhi
 bited\, hinting at a rich vacuum structure.
CATEGORIES:Pizza Seminars
LOCATION:Room 1.221\, IRIS building\, Zum großen Windkanal 6\, Berlin\, 12
 489\, Germany
X-APPLE-STRUCTURED-LOCATION;VALUE=URI;X-ADDRESS=Zum großen Windkanal 6\, B
 erlin\, 12489\, Germany;X-APPLE-RADIUS=100;X-TITLE=Room 1.221\, IRIS build
 ing:geo:0,0
END:VEVENT
BEGIN:VTIMEZONE
TZID:Europe/Berlin
X-LIC-LOCATION:Europe/Berlin
BEGIN:STANDARD
DTSTART:20251026T020000
TZOFFSETFROM:+0200
TZOFFSETTO:+0100
TZNAME:CET
END:STANDARD
END:VTIMEZONE
END:VCALENDAR