BEGIN:VCALENDAR
VERSION:2.0
PRODID:-//wp-events-plugin.com//6.4.6.4//EN
TZID:Europe/Berlin
X-WR-TIMEZONE:Europe/Berlin
BEGIN:VEVENT
UID:2479@qft.physik.hu-berlin.de
DTSTART;TZID=Europe/Berlin:20260130T133000
DTEND;TZID=Europe/Berlin:20260130T143000
DTSTAMP:20260127T103911Z
URL:https://qft.physik.hu-berlin.de/next-seminars/janik-rausch-hu-berlin/
SUMMARY:Janik Rausch (HU Berlin) - 
DESCRIPTION:Speaker: Janik Rausch (HU Berlin)\n\nTitle: Thermal stress-ene
 rgy tensor for massless quantum fields in Kerr-Newman spacetime\n\nAbstrac
 t:\nWe investigated massless quantum fields in a rotational global equilib
 rium state on a Kerr-Newman black hole background. In particular\, we cons
 idered the analytic part of the thermal expectation value of the stress-en
 ergy tensor which has recently been conjectured to be independent of the u
 nderlying spacetime. We attempted to calculate this analytic part starting
  from a general expansion built from geometric quantities. In the Kerr lim
 it we were able to fix 58 out of 59 expansion coefficients\, and in the Sc
 hwarzschild limit we obtained a fully determined result that is consistent
  with the literature.
CATEGORIES:Pizza Seminars
LOCATION:Room 1.221\, IRIS building\, Zum großen Windkanal 6\, Berlin\, 12
 489\, Germany
X-APPLE-STRUCTURED-LOCATION;VALUE=URI;X-ADDRESS=Zum großen Windkanal 6\, B
 erlin\, 12489\, Germany;X-APPLE-RADIUS=100;X-TITLE=Room 1.221\, IRIS build
 ing:geo:0,0
END:VEVENT
BEGIN:VTIMEZONE
TZID:Europe/Berlin
X-LIC-LOCATION:Europe/Berlin
BEGIN:STANDARD
DTSTART:20251026T020000
TZOFFSETFROM:+0200
TZOFFSETTO:+0100
TZNAME:CET
END:STANDARD
END:VTIMEZONE
END:VCALENDAR