BEGIN:VCALENDAR
VERSION:2.0
PRODID:-//wp-events-plugin.com//6.4.6.4//EN
TZID:Europe/Berlin
X-WR-TIMEZONE:Europe/Berlin
BEGIN:VEVENT
UID:2473@qft.physik.hu-berlin.de
DTSTART;TZID=Europe/Berlin:20251212T133000
DTEND;TZID=Europe/Berlin:20251212T143000
DTSTAMP:20251212T110557Z
URL:https://qft.physik.hu-berlin.de/next-seminars/giuseppe-casale-hu-berli
 n/
SUMMARY:Giuseppe Casale (HU Berlin) - 
DESCRIPTION:Speaker: Giuseppe Casale (HU Berlin)\n\nTitle: Supergravity rea
 lisations of λ-models\n\nAbstract: λ-models are a family of integrable d
 eformations of two-dimensional CFTs interpolating between the (gauged) Wes
 s-Zumino-Witten model and the non-Abelian T-dual of a Principal Chiral Mod
 el. After deriving an action for such models\, I will discuss how these co
 nstructions can be used to generate solutions of type-II supergravity that
  include an undeformed Anti-de Sitter factor. This talk is based on my rec
 ent paper 2512.06091.\n\n\n\n\n\n\n\n\n\n\n\n\n\n
CATEGORIES:Pizza Seminars
LOCATION:Room 1.221\, IRIS building\, Zum großen Windkanal 6\, Berlin\, 12
 489\, Germany
X-APPLE-STRUCTURED-LOCATION;VALUE=URI;X-ADDRESS=Zum großen Windkanal 6\, B
 erlin\, 12489\, Germany;X-APPLE-RADIUS=100;X-TITLE=Room 1.221\, IRIS build
 ing:geo:0,0
END:VEVENT
BEGIN:VTIMEZONE
TZID:Europe/Berlin
X-LIC-LOCATION:Europe/Berlin
BEGIN:STANDARD
DTSTART:20251026T020000
TZOFFSETFROM:+0200
TZOFFSETTO:+0100
TZNAME:CET
END:STANDARD
END:VTIMEZONE
END:VCALENDAR