BEGIN:VCALENDAR
VERSION:2.0
PRODID:-//wp-events-plugin.com//6.4.6.4//EN
TZID:Europe/Berlin
X-WR-TIMEZONE:Europe/Berlin
BEGIN:VEVENT
UID:2497@qft.physik.hu-berlin.de
DTSTART;TZID=Europe/Berlin:20260128T133000
DTEND;TZID=Europe/Berlin:20260128T143000
DTSTAMP:20260125T160721Z
URL:https://qft.physik.hu-berlin.de/next-seminars/didina-serban-ipht-sacla
 y/
SUMMARY:Didina Serban (IPhT\, Saclay) - 
DESCRIPTION:Speaker: Didina Serban\n\nTitle: Correlation functions in integ
 rable supersymmetric four-dimensional gauge theories\n\nAbstract: The talk
  will start with a reminder of the method of hexagonalization for the corr
 elators of gauge-invariant operators in the N=4 SYM theory and the computa
 tion of the octagon form factor in terms of a Fredholm determinant for a B
 essel kernel. Then I will present an application of this method to compute
  three point functions of the twisted BPS operators for the N=2 supersymme
 tric cyclic Z_K quiver theories. The result\, expressed in terms of the oc
 tagon form factor\, agrees with the computations previously performed by l
 ocalisation.
CATEGORIES:Pizza Seminars
LOCATION:Room 1.221\, IRIS building\, Zum großen Windkanal 6\, Berlin\, 12
 489\, Germany
X-APPLE-STRUCTURED-LOCATION;VALUE=URI;X-ADDRESS=Zum großen Windkanal 6\, B
 erlin\, 12489\, Germany;X-APPLE-RADIUS=100;X-TITLE=Room 1.221\, IRIS build
 ing:geo:0,0
END:VEVENT
BEGIN:VTIMEZONE
TZID:Europe/Berlin
X-LIC-LOCATION:Europe/Berlin
BEGIN:STANDARD
DTSTART:20251026T020000
TZOFFSETFROM:+0200
TZOFFSETTO:+0100
TZNAME:CET
END:STANDARD
END:VTIMEZONE
END:VCALENDAR