BEGIN:VCALENDAR
VERSION:2.0
PRODID:-//wp-events-plugin.com//6.4.6.4//EN
TZID:Europe/Berlin
X-WR-TIMEZONE:Europe/Berlin
BEGIN:VEVENT
UID:2185@qft.physik.hu-berlin.de
DTSTART;TZID=Europe/Berlin:20250110T133000
DTEND;TZID=Europe/Berlin:20250110T143000
DTSTAMP:20250106T142527Z
URL:https://qft.physik.hu-berlin.de/next-seminars/christoph-chiaffrino-hu-
 berlin-2/
SUMMARY:Christoph Chiaffrino: Quantum Mechanics from Factorization Algebras
  - 
DESCRIPTION:Speaker: Christoph Chiaffrino (HU Berlin)\n\nTitle: Quantum Me
 chanics from Factorization Algebras\n\nAbstract:\nBased on the factorizati
 on algebra formulation developed by K. Costello and O. Gwilliam\, we will 
 show how the algebra of quantum operators in a quantum mechanical system c
 an be obtained by going to the cohomology of a certain factorization algeb
 ra. We will show how to generalize this construction to also include the s
 tates of the system and how to compute quantum expectation values. We will
  introduce all necessary concepts in the talk and explain their connection
  to the path integral formulation. The talk will be based on 2112.11495 an
 d 2412.06912.
CATEGORIES:Pizza Seminars
LOCATION:Room 1.221\, IRIS building\, Zum großen Windkanal 6\, Berlin\, 12
 489\, Germany
X-APPLE-STRUCTURED-LOCATION;VALUE=URI;X-ADDRESS=Zum großen Windkanal 6\, B
 erlin\, 12489\, Germany;X-APPLE-RADIUS=100;X-TITLE=Room 1.221\, IRIS build
 ing:geo:0,0
END:VEVENT
BEGIN:VTIMEZONE
TZID:Europe/Berlin
X-LIC-LOCATION:Europe/Berlin
BEGIN:STANDARD
DTSTART:20241027T020000
TZOFFSETFROM:+0200
TZOFFSETTO:+0100
TZNAME:CET
END:STANDARD
END:VTIMEZONE
END:VCALENDAR