BEGIN:VCALENDAR
VERSION:2.0
PRODID:-//wp-events-plugin.com//6.4.6.4//EN
TZID:Europe/Berlin
X-WR-TIMEZONE:Europe/Berlin
BEGIN:VEVENT
UID:2500@qft.physik.hu-berlin.de
DTSTART;TZID=Europe/Berlin:20260204T133000
DTEND;TZID=Europe/Berlin:20260204T143000
DTSTAMP:20260203T125704Z
URL:https://qft.physik.hu-berlin.de/next-seminars/benjamin-basso-ens-paris
 /
SUMMARY:Benjamin Basso (ENS\, Paris) - 
DESCRIPTION:Speaker: Benjamin Basso\n\nTitle: Origin limits of large-charge
  correlators in planar N=4 SYM\n\nAbstract: I will discuss the behavior of
  large-charge correlation functions in planar N=4 SYM in the so-called Ori
 gin limits\, corresponding to corners of the positive kinematic region whe
 re many cross ratios simultaneously approach zero. Focusing on two-dimensi
 onal kinematics\, I will explain how these limits can be explored using to
 ols from cluster algebras and the hexagon formalism. I will also present a
  conjecture for the all-order behavior of large-charge correlation functio
 ns in this regime\, based on a tilted version of the cusp anomalous dimens
 ion.
CATEGORIES:Pizza Seminars
LOCATION:Room 1.221\, IRIS building\, Zum großen Windkanal 6\, Berlin\, 12
 489\, Germany
X-APPLE-STRUCTURED-LOCATION;VALUE=URI;X-ADDRESS=Zum großen Windkanal 6\, B
 erlin\, 12489\, Germany;X-APPLE-RADIUS=100;X-TITLE=Room 1.221\, IRIS build
 ing:geo:0,0
END:VEVENT
BEGIN:VTIMEZONE
TZID:Europe/Berlin
X-LIC-LOCATION:Europe/Berlin
BEGIN:STANDARD
DTSTART:20251026T020000
TZOFFSETFROM:+0200
TZOFFSETTO:+0100
TZNAME:CET
END:STANDARD
END:VTIMEZONE
END:VCALENDAR