BEGIN:VCALENDAR
VERSION:2.0
PRODID:-//wp-events-plugin.com//6.4.6.4//EN
TZID:Europe/Berlin
X-WR-TIMEZONE:Europe/Berlin
BEGIN:VEVENT
UID:2464@qft.physik.hu-berlin.de
DTSTART;TZID=Europe/Berlin:20260122T133000
DTEND;TZID=Europe/Berlin:20260122T143000
DTSTAMP:20260121T072636Z
URL:https://qft.physik.hu-berlin.de/next-seminars/ana-retore-desy/
SUMMARY:Ana Retore (DESY) - 
DESCRIPTION:Speaker: Ana Retore\n\nTitle: Beyond "standard" integrability\n
 \nAbstract: The presence of integrability in a given model translates in a
  powerful toolkit available to solve and understand that model. In fact\, 
 in the last decades\, it became clear that even having integrability pertu
 rbatively allows for remarkable progress (especially in N=4 Super Yang-Mil
 ls).\nIn 2022\, M. de Leeuw and I proposed a method to systematically obta
 in integrable deformations perturbatively (order by order in the coupling 
 constant)\, while targeting properties like specific symmetries and types 
 of interaction. In ongoing work\, I improved the efficiency of our method 
  and applied it to spin-1 su(2) invariant chains.\nIn this talk I will re
 view the current  state of integrability techniques and show new integrab
 le deformations of the three different spin-1 su(2) invariant chains.
CATEGORIES:Pizza Seminars
LOCATION:Room 1.221\, IRIS building\, Zum großen Windkanal 6\, Berlin\, 12
 489\, Germany
X-APPLE-STRUCTURED-LOCATION;VALUE=URI;X-ADDRESS=Zum großen Windkanal 6\, B
 erlin\, 12489\, Germany;X-APPLE-RADIUS=100;X-TITLE=Room 1.221\, IRIS build
 ing:geo:0,0
END:VEVENT
BEGIN:VTIMEZONE
TZID:Europe/Berlin
X-LIC-LOCATION:Europe/Berlin
BEGIN:STANDARD
DTSTART:20251026T020000
TZOFFSETFROM:+0200
TZOFFSETTO:+0100
TZNAME:CET
END:STANDARD
END:VTIMEZONE
END:VCALENDAR